BEGIN:VCALENDAR
VERSION:2.0
CREATED:20260421T125122Z
PRODID:-//Amprius Technologies\, Inc./Equisolve Calendar v1.0//EN
METHOD:PUBLISH
BEGIN:VEVENT
UID:f2cf1fba30b1c9a80fe8f52f70e1ecc8
DTSTAMP:20260423T122418Z
DTSTART:20260507T123000Z
DTEND:20260507T133000Z
SUMMARY:Q1 2026 Earnings Conference Call
DESCRIPTION:Q1 2026 Earnings Conference Call\nDate: May 7\, 2026 8:30 am EDT\nWebcast: https://event.choruscall.com/mediaframe/webcast.html?webcastid=jgWyNUF3
END:VEVENT
END:VCALENDAR
